BEGIN:VCALENDAR
VERSION:2.0
PRODID:-//Universal Comics Resources - ECPv6.15.20//NONSGML v1.0//EN
CALSCALE:GREGORIAN
METHOD:PUBLISH
X-WR-CALNAME:Universal Comics Resources
X-ORIGINAL-URL:https://unicorerecords.com
X-WR-CALDESC:Events for Universal Comics Resources
REFRESH-INTERVAL;VALUE=DURATION:PT1H
X-Robots-Tag:noindex
X-PUBLISHED-TTL:PT1H
BEGIN:VTIMEZONE
TZID:Europe/Paris
BEGIN:DAYLIGHT
TZOFFSETFROM:+0100
TZOFFSETTO:+0200
TZNAME:CEST
DTSTART:20230326T010000
END:DAYLIGHT
BEGIN:STANDARD
TZOFFSETFROM:+0200
TZOFFSETTO:+0100
TZNAME:CET
DTSTART:20231029T010000
END:STANDARD
BEGIN:DAYLIGHT
TZOFFSETFROM:+0100
TZOFFSETTO:+0200
TZNAME:CEST
DTSTART:20240331T010000
END:DAYLIGHT
BEGIN:STANDARD
TZOFFSETFROM:+0200
TZOFFSETTO:+0100
TZNAME:CET
DTSTART:20241027T010000
END:STANDARD
BEGIN:DAYLIGHT
TZOFFSETFROM:+0100
TZOFFSETTO:+0200
TZNAME:CEST
DTSTART:20250330T010000
END:DAYLIGHT
BEGIN:STANDARD
TZOFFSETFROM:+0200
TZOFFSETTO:+0100
TZNAME:CET
DTSTART:20251026T010000
END:STANDARD
BEGIN:DAYLIGHT
TZOFFSETFROM:+0100
TZOFFSETTO:+0200
TZNAME:CEST
DTSTART:20260329T010000
END:DAYLIGHT
BEGIN:STANDARD
TZOFFSETFROM:+0200
TZOFFSETTO:+0100
TZNAME:CET
DTSTART:20261025T010000
END:STANDARD
END:VTIMEZONE
BEGIN:VEVENT
DTSTART;VALUE=DATE:20250130
DTEND;VALUE=DATE:20250203
DTSTAMP:20260424T040536
CREATED:20240703T195013Z
LAST-MODIFIED:20240713T165842Z
UID:20630-1738195200-1738540799@unicorerecords.com
SUMMARY:Festival international de la bande dessinée d'Angoulême
DESCRIPTION:Festival international de la bande dessinée d’Angoulême est le plus grand événement consacré à la bande dessinée de France. Doté d’un programme chargé mêlant expositions\, dédicaces\, spectacles ou encore concours\, le Festival de la BD d’Angoulême fait chaque année\, en janvier\, le bonheur de 200 000 visiteurs environ. Dates\, tarifs\, programme… Découvrez ici tout ce qu’il faut savoir sur cet événement unique. \n\nProgramme du Festival de la BD d’Angoulême : auteurs\, expositions\, spectacles…\nPartout en France\, de nombreux festivals artistiques abordant des sujets et thèmes variés sont à dénombrer\, tels que le Festival d’Automne de Paris\, consacré à l’art contemporain\, ou encore les Rencontres d’Arles pour les amateurs de photographie. \nTous les ans\, la commune d’Angoulême en Charentes\, située à 1h20 de route au nord de la ville de Bordeaux\, accueille le plus important événement français consacré à la BD : le Festival de la BD d’Angoulême. \nCe rendez-vous immanquable des amateurs de planches rassemble tous les ans environ 200 000 personnes venant prendre part aux nombreuses animations proposées par l’événement. \nAu programme\, de quoi satisfaire tous les goûts et tous les âges avec : \n\ndes expositions consacrées à des artistes ou des œuvres diverses (BD jeunesse\, mangas\, parcours des artistes…)\ndes spectacles musicaux et théâtrales tout public\ndes dédicaces et rencontres avec des auteurs\, scénaristes\, dessinateurs et bien d’autres\ndes débats et conférences sur des thèmes d’actualité liés notamment à la littérature\ndes ateliers d’initiation à la BD.\n\nLe programme complet du festival sera à retrouver ici-même prochainement. \n© 9eArt+\, Antoine GuilbertConférence au Festival de la BD d’Angoulême \nPrix et concours du Festival de la BD d’Angoulême\nLe Festival de la BD d’Angoulême est également réputé à travers la remise de prix aux meilleurs artistes de BD de la compétition. Parmi les récompenses les plus prestigieuses et célèbres de la compétition se trouvent : \n\nGrand Prix de la ville d’Angoulême\, décerné par des auteurs internationaux\nPrix de la bande dessinée alternative\, destiné à l’ensemble des magazines\, revues et autres traitant de la BD\nPrix Goscinny\, primant à la fois un scénariste confirmé et un autre en devenir.\n\n  \nIl est également possible de participer à des concours ouverts à tous : le Concours Jeunes Talents pour les jeunes adultes et le Concours de la BD scolaire pour les collégiens et lycéens. \nLes formulaires et conditions d’inscription sont à retrouver sur le site de l’événement (lien ci-dessous).
URL:https://unicorerecords.com/event/festival-international-de-la-bande-dessinee-dangouleme/
LOCATION:Angoulême\, Angoulême\, 16000\, France
CATEGORIES:Festival
END:VEVENT
BEGIN:VEVENT
DTSTART;VALUE=DATE:20241111
DTEND;VALUE=DATE:20241118
DTSTAMP:20260424T040536
CREATED:20240712T185240Z
LAST-MODIFIED:20240712T185254Z
UID:80909-1731283200-1731887999@unicorerecords.com
SUMMARY:Thought Bubble
DESCRIPTION:Thought Bubble is the Yorkshire Comic Art Festival! A week long celebration of comics\, illustration and more spread across the whole of Yorkshire\, finishing in a huge two day comic convention in Harrogate. We use our festival week to promote the power of comics! We believe they can inspire\, educate and bring people together like no other medium\, so whether you’re a long-time fan of comic art or have never picked up a graphic novel before\, you’ll find something for you. \nThought Bubble is not for profit with our chosen charity being Barnardo’s!
URL:https://unicorerecords.com/event/thought-bubble/
CATEGORIES:Festival
END:VEVENT
BEGIN:VEVENT
DTSTART;VALUE=DATE:20240927
DTEND;VALUE=DATE:20240930
DTSTAMP:20260424T040536
CREATED:20240703T192417Z
LAST-MODIFIED:20240703T192542Z
UID:20615-1727395200-1727654399@unicorerecords.com
SUMMARY:THE LAKES INTERNATIONAL COMIC ART FESTIVAL
DESCRIPTION:A comic art spectacular is coming to the Lake District from 27 – 29 September 2024!\n\n\n\n\n\n  \nThis year’s festival promises to be better than ever\, with the best comic artists\, writers and creators heading to the Lake District for a packed comic art weekend spectacular. \nA WORLD OF COMIC ART WILL RETURN TO THE LAKE DISTRICT FOR THE LAKES INTERNATIONAL COMIC ART FESTIVAL\, 27 – 28TH SEPTEMBER – 2024! \nKick-ass superheroes\, future worlds\, fantastical creatures\, zombies\, crime fighters\, politics\, satire\, documentary\, comedy\, manga and much more. The world of comic art is a diverse and spectacular place\, bursting with creations that transport us to other dimensions and stories that explore the world and our place within it. \nThe family-friendly festival will see a weekend of wonderful events\, activities and workshops for all ages. \nSo\, whether you’re a comic art addict\, new to the world of comics or just love exceptional art and storytelling – get a date in your diary for the Lakes International Comic Art Festival.
URL:https://unicorerecords.com/event/the-lakes-international-comic-art-festival/
LOCATION:Bowness-on-Windermere\, LA23\, United Kingdom
CATEGORIES:Festival
END:VEVENT
END:VCALENDAR